BEGIN:VCALENDAR
VERSION:2.0
PRODID:spatie/icalendar-generator
DESCRIPTION:Events from wsbcphila.org
X-WR-CALDESC:Events from wsbcphila.org
REFRESH-INTERVAL;VALUE=DURATION:PT1440M
X-PUBLISHED-TTL:PT1440M
BEGIN:VTIMEZONE
TZID:Etc/GMT+0
BEGIN:STANDARD
DTSTART:20250730T000000Z
TZOFFSETFROM:+0000
TZOFFSETTO:+0000
END:STANDARD
END:VTIMEZONE
BEGIN:VTIMEZONE
TZID:UTC
BEGIN:STANDARD
DTSTART:20250728T184837Z
TZOFFSETFROM:+0000
TZOFFSETTO:+0000
END:STANDARD
END:VTIMEZONE
BEGIN:VEVENT
UID:51-4
DTSTAMP:20260424T184837Z
SUMMARY:Bible Study
LOCATION:
ORGANIZER;CN=Editor:MAILTO:
DTSTART;TZID=Etc/GMT+0;VALUE=DATE:20260426
DTEND;TZID=Etc/GMT+0;VALUE=DATE:20260427
X-ALT-DESC;FMTTYPE=TEXT/HTML:BIBLE SERIES WHAT THE BIBLE IS ALL ABOUT SUNDA
 Y\, APRIL 26 following Morning Worship A light lunch will be served. we wi
 ll look at 1 Samuel. Available in person or byZoom
CATEGORIES:General
URL;VALUE=URI:https://wsbcphila.org/mc-events/bible-study/
METHOD:PUBLISH
END:VEVENT
END:VCALENDAR