BEGIN:VCALENDAR
VERSION:2.0
PRODID:spatie/icalendar-generator
DESCRIPTION:Events from wsbcphila.org
X-WR-CALDESC:Events from wsbcphila.org
REFRESH-INTERVAL;VALUE=DURATION:PT1440M
X-PUBLISHED-TTL:PT1440M
BEGIN:VTIMEZONE
TZID:Etc/GMT+0
BEGIN:STANDARD
DTSTART:20250726T000000Z
TZOFFSETFROM:+0000
TZOFFSETTO:+0000
END:STANDARD
END:VTIMEZONE
BEGIN:VTIMEZONE
TZID:UTC
BEGIN:STANDARD
DTSTART:20250728T202351Z
TZOFFSETFROM:+0000
TZOFFSETTO:+0000
END:STANDARD
END:VTIMEZONE
BEGIN:VEVENT
UID:20-3
DTSTAMP:20260424T202351Z
SUMMARY:Biblical Financial Study
LOCATION:
ORGANIZER;CN=Editor:MAILTO:
DTSTART;TZID=Etc/GMT+0;VALUE=DATE:20260422
DTEND;TZID=Etc/GMT+0;VALUE=DATE:20260423
X-ALT-DESC;FMTTYPE=TEXT/HTML:TOPICS INCLUDE: Getting out of debt Spending S
 aving and investment Budgeting Giving Earning money Training children The 
 Requirements The group will meet once a week for two hours. About two hour
 s of preparation are required outside the class each week. Group members c
 omplete a homework assignment\, memorize Scripture\, and pray for one anot
 her daily. The&amp;hellip\;
CATEGORIES:General
URL;VALUE=URI:https://wsbcphila.org/mc-events/biblical-financial-study/
METHOD:PUBLISH
END:VEVENT
END:VCALENDAR